BEGIN:VCALENDAR
VERSION:2.0
PRODID:-//wp-events-plugin.com//7.2.2.1//EN
TZID:Europe/Paris
X-WR-TIMEZONE:Europe/Paris
BEGIN:VEVENT
UID:8@tiwakan.com
DTSTART;TZID=Europe/Paris:20250301T173000
DTEND;TZID=Europe/Paris:20250301T183000
DTSTAMP:20250213T191634Z
URL:https://tiwakan.com/events/concert-au-salon-du-bien-etre-de-nimes/
SUMMARY:Concert au salon du bien être de Nîmes
DESCRIPTION:
ATTACH;FMTTYPE=image/jpeg:https://tiwakan.com/wp-content/uploads/2025/02/s
 alon-de-nimes.webp
CATEGORIES:Salon du bien être,Voyage Sonore
END:VEVENT
BEGIN:VTIMEZONE
TZID:Europe/Paris
X-LIC-LOCATION:Europe/Paris
BEGIN:STANDARD
DTSTART:20241027T020000
TZOFFSETFROM:+0200
TZOFFSETTO:+0100
TZNAME:CET
END:STANDARD
END:VTIMEZONE
END:VCALENDAR