BEGIN:VCALENDAR
VERSION:2.0
PRODID:-//wp-events-plugin.com//7.2.2.1//EN
TZID:Europe/Paris
X-WR-TIMEZONE:Europe/Paris
BEGIN:VEVENT
UID:12@tiwakan.com
DTSTART;TZID=Europe/Paris:20250511T140000
DTEND;TZID=Europe/Paris:20250511T153000
DTSTAMP:20250402T093716Z
URL:https://tiwakan.com/events/concert-de-gongs-et-voix-ancestrales-2/
SUMMARY:Concert de gongs et voix ancestrales
DESCRIPTION:Concert vibratoire de gongs et de voix ancestrales: chants mong
 ols et intuitifs avec Tiwakan accompagné de Emma et Claret qui viennent t
 out droit de Cadaques avec leurs gongs pour la première fois en France.\n
 Réservez vos billets sur la boutique en ligne
ATTACH;FMTTYPE=image/jpeg:https://tiwakan.com/wp-content/uploads/2025/04/v
 isuel-gong-st-ybars.jpg
CATEGORIES:Concert
LOCATION:Barcouda\, Lieu dit: Barcouda\, Saint-Ybars\, 09210\, France
X-APPLE-STRUCTURED-LOCATION;VALUE=URI;X-ADDRESS=Lieu dit: Barcouda\, Saint-
 Ybars\, 09210\, France;X-APPLE-RADIUS=100;X-TITLE=Barcouda:geo:0,0
END:VEVENT
BEGIN:VTIMEZONE
TZID:Europe/Paris
X-LIC-LOCATION:Europe/Paris
BEGIN:DAYLIGHT
DTSTART:20250330T030000
TZOFFSETFROM:+0100
TZOFFSETTO:+0200
TZNAME:CEST
END:DAYLIGHT
END:VTIMEZONE
END:VCALENDAR