BEGIN:VCALENDAR
VERSION:2.0
PRODID:-//wp-events-plugin.com//7.2.2.1//EN
TZID:Europe/Paris
X-WR-TIMEZONE:Europe/Paris
BEGIN:VEVENT
UID:16@tiwakan.com
DTSTART;TZID=Europe/Paris:20250419T140000
DTEND;TZID=Europe/Paris:20250419T193000
DTSTAMP:20250416T083044Z
URL:https://tiwakan.com/events/soin-rebouteux-et-concert-a-frouzins/
SUMMARY:Soin rebouteux et concert à Frouzins
DESCRIPTION:
END:VEVENT
BEGIN:VTIMEZONE
TZID:Europe/Paris
X-LIC-LOCATION:Europe/Paris
BEGIN:DAYLIGHT
DTSTART:20250330T030000
TZOFFSETFROM:+0100
TZOFFSETTO:+0200
TZNAME:CEST
END:DAYLIGHT
END:VTIMEZONE
END:VCALENDAR